Workbook

Sheet Orçamento Final
A2: PREFEITURA MUNICIPAL DE BANDEIRANTE | C2: ORÇAMENTO DE OBRA
A5: Obra: Implantação de Iluminação do Estádio Municipal Luiz Basso | C5: Data: 03/11/2025
A6: Endereço: Rua Flor da Serra, esquina com a Rua dos Imigrantes, Centro, Bandeirante/SC | C6: Área: 6.507,60m²
A7: Proprietário: Prefeitura Municipal de Bandeirante | C7: Referência: | E7: Sinapi 09/2025 | G7: BDI | H7: 0.245
A8: ITEM | B8: DESCRIÇÃO | C8: UNID | D8: QUANT. | E8: VALOR UNITÁRIO SEM BDI (R$) | F8: VALOR UNITÁRIO COM BDI (R$) | G8: VALOR TOTAL (R$) | H8: REFERÊNCIA
A10: 1.0 | B10: SERVIÇOS PRELIMINARES | G10: =SUM(G11:G12) -> 2086.6698 | J10: INCC
A11: 1.1 | B11: Placa de Obra | C11: m² | D11: 3 | E11: 468.19 | F11: =E11*(1+$H$7) -> 582.89655 | G11: =F11*D11 -> 1748.6897 | H11: 103689 - Sinapi - C | K11: 45536
A12: 1.2 | B12: ART/RRT de execução | C12: und | D12: 1 | E12: 271.47 | F12: =E12*(1+$H$7) -> 337.98015 | G12: =F12*D12 -> 337.98015 | H12: CREA/SC e CAU/SC | J12: 852.809 | K12: 1141.398
A14: 2.0 | B14: MEDIÇÃO | G14: =SUM(G15:G46) -> 23130.595
A15: 2.1 | B15: Entrada de energia elétrica, aérea, trifásica, com caixa de embutir, cabo de 50mm² e disjuntor 100A | C15: und | D15: 1 | E15: 2752.82 | F15: =E15*(1+$H$7) -> 3427.2609 | G15: =F15*D15 -> 3427.2609 | H15: 101512 - Sinapi – C
A16: 2.2 | B16: Poste de concreto armado de seção duplo T, 1000 DAN, extensão de 11m | C16: und | D16: 1 | E16: 1607.26 | F16: =E16*(1+$H$7) -> 2001.0387 | G16: =F16*D16 -> 2001.0387 | H16: 41205 - Sinapi – I
A17: 2.3 | B17: Assentamento de poste de concreto 1000DAN com comprimento nominal de 11m, engastamento base concretada com 1m de concreto e 0,70m de solo | C17: und | D17: 1 | E17: 2029.05 | F17: =E17*(1+$H$7) -> 2526.1672 | G17: =D17*F17 -> 2526.1672 | H17: 100613 – Sinapi-C
A18: 2.4 | B18: Quadro de distribuição de energia em chapa de aço galvanizado, de embutir, com barramento trifásico, para 18 disjuntores 100A - Fornecimento e instalação | C18: und | D18: 1 | E18: 600.95 | F18: =E18*(1+$H$7) -> 748.18275 | G18: =D18*F18 -> 748.18275 | H18: 101883 – Sinapi-C
A19: 2.5 | B19: Disjuntor tripolar tipo nema, corrente nominal de 100A - fornecimento e instalação | C19: und | D19: 1 | E19: 166.69 | F19: =E19*(1+$H$7) -> 207.52905 | G19: =D19*F19 -> 207.52905 | H19: 101894 - Sinapi - C
A20: 2.6 | B20: Cabo de cobre flexível isolado, 50mm², 1KV, para rede aérea de distribuição de energia elétrica de baixa tensão - fornecimento e instalação (cor preto) | C20: m | D20: 15 | E20: 55.66 | F20: =E20*(1+$H$7) -> 69.2967 | G20: =D20*F20 -> 1039.4505 | H20: 101564 - Sinapi - C
A21: 2.7 | B21: Cabo de cobre flexível isolado, 50mm², 1KV, para rede aérea de distribuição de energia elétrica de baixa tensão - fornecimento e instalação (cor branco) | C21: m | D21: 15 | E21: 55.66 | F21: =E21*(1+$H$7) -> 69.2967 | G21: =D21*F21 -> 1039.4505 | H21: 101564 - Sinapi - C
A22: 2.8 | B22: Cabo de cobre flexível isolado, 50mm², 1KV, para rede aérea de distribuição de energia elétrica de baixa tensão - fornecimento e instalação (cor vermelho) | C22: m | D22: 15 | E22: 55.66 | F22: =E22*(1+$H$7) -> 69.2967 | G22: =D22*F22 -> 1039.4505 | H22: 101564 - Sinapi - C
A23: 2.9 | B23: Cabo de cobre flexível isolado, 50mm², 1KV, para rede aérea de distribuição de energia elétrica de baixa tensão - fornecimento e instalação (cor azul) | C23: m | D23: 15 | E23: 55.66 | F23: =E23*(1+$H$7) -> 69.2967 | G23: =D23*F23 -> 1039.4505 | H23: 101564 - Sinapi - C
A24: 2.10 | B24: Dispositivo DPS 20KA 275V - fornecimento e instalação | C24: und | D24: 3 | E24: 75.81 | F24: =E24*(1+$H$7) -> 94.38345 | G24: =D24*F24 -> 283.15035 | H24: 106027 - Sinapi - C
A25: 2.11 | B25: Disjuntor tipo DIN, corrente nominal de 40A - fornecimento e instalação | C25: und | D25: 6 | E25: 23.65 | F25: =E25*(1+$H$7) -> 29.44425 | G25: =D25*F25 -> 176.6655 | H25: 93658 - Sinapi - C
A26: 2.12 | B26: Disjuntor tripolar tipo DIN, corrente nominal de 50A - fornecimento e instalação | C26: und | D26: 1 | E26: 104.96 | F26: =E26*(1+$H$7) -> 130.6752 | G26: =D26*F26 -> 130.6752 | H26: 93673 – Sinapi-C
A27: 2.13 | B27: Caixa enterrada elétrica retangular, em alvenaria com blocos de concreto, dimensões 40x40x40cm | C27: und | D27: 1 | E27: 239.46 | F27: =E27*(1+$H$7) -> 298.1277 | G27: =D27*F27 -> 298.1277 | H27: 97891 - Sinapi - C
A28: 2.14 | B28: Tampa para caixa padrão CELESC, em ferro fundido, dimensões internas: 0,48 x 0,70m - fornecimento e instalação | C28: und | D28: 1 | E28: 343.76 | F28: =E28*(1+$H$7) -> 427.9812 | G28: =D28*F28 -> 427.9812 | H28: 101798 – Sinapi-C
... A46: 2.32 | B46: Auxiliar de eletricista com encargos complementares | C46: h | D46: 40 | E46: 27.19 | F46: =E46*(1+$H$7) -> 33.85155 | G46: =D46*F46 -> 1354.062 | H46: 88247 - Sinapi - C
A48: 3.0 | B48: ILUMINAÇÃO CAMPO DE FUTEBOL | G48: =SUM(G49:G77) -> 214447.14
A49: 3.1 | B49: Cabo de cobre flexível isolado, 10mm², 1KV, para rede de energia elétrica de baixa tensão - fornecimento e instalação (cor preto) | C49: m | D49: 155 | E49: 18.44 | F49: =E49*(1+$H$7) -> 22.9578 | G49: =D49*F49 -> 3558.459 | H49: 91933 - Sinapi - C
A50: 3.2 | B50: Cabo de cobre flexível isolado, 10mm², 1KV, para rede de energia elétrica de baixa tensão - fornecimento e instalação (cor branco) | C50: m | D50: 125 | E50: 18.44 | F50: =E50*(1+$H$7) -> 22.9578 | G50: =F50*D50 -> 2869.725 | H50: 91933 - Sinapi - C
A51: 3.3 | B51: Cabo de cobre flexível isolado, 10mm², 1KV, para rede de energia elétrica de baixa tensão - fornecimento e instalação (cor vermelho) | C51: m | D51: 98 | E51: 18.44 | F51: =E51*(1+$H$7) -> 22.9578 | G51: =F51*D51 -> 2249.8644 | H51: 91933 - Sinapi - C
A52: 3.4 | B52: Cabo de cobre flexível isolado, 10mm², 1KV, para rede de energia elétrica de baixa tensão - fornecimento e instalação (cor azul) | C52: m | D52: 235 | E52: 18.44 | F52: =E52*(1+$H$7) -> 22.9578 | G52: =F52*D52 -> 5395.083 | H52: 91933 - Sinapi - C
A53: 3.5 | B53: Cabo de cobre flexível isolado, 10mm², 1KV, para rede de energia elétrica de baixa tensão - fornecimento e instalação (cor verde) | C53: m | D53: 190 | E53: 18.44 | F53: =E53*(1+$H$7) -> 22.9578 | G53: =F53*D53 -> 4361.982 | H53: 91933 - Sinapi - C
A54: 3.6 | B54: Cabo de cobre flexível isolado, 10mm², 1KV, para rede de energia elétrica de baixa tensão - fornecimento e instalação (cor cinza) | C54: m | D54: 22 | E54: 18.44 | F54: =E54*(1+$H$7) -> 22.9578 | G54: =F54*D54 -> 505.0716 | H54: 91933 - Sinapi - C
A55: 3.7 | B55: Cabo de cobre flexível isolado, 10mm², 1KV, para rede de energia elétrica de baixa tensão - fornecimento e instalação (cor marrom) | C55: m | D55: 50 | E55: 18.44 | F55: =E55*(1+$H$7) -> 22.9578 | G55: =F55*D55 -> 1147.89 | H55: 91933 - Sinapi - C
A56: 3.8 | B56: Cabo de cobre flexível isolado, 10mm², 1KV, para rede de energia elétrica de baixa tensão - fornecimento e instalação (cor amarelo) | C56: m | D56: 80 | E56: 18.44 | F56: =E56*(1+$H$7) -> 22.9578 | G56: =F56*D56 -> 1836.624 | H56: 91933 - Sinapi - C
A57: 3.9 | B57: Cabo de cobre flexível isolado, 6mm², 1KV, para rede de energia elétrica de baixa tensão - fornecimento e instalação (cor preto) | C57: m | D57: 29 | E57: 11.59 | F57: =E57*(1+$H$7) -> 14.42955 | G57: =F57*D57 -> 418.45695 | H57: 91931 - Sinapi - C
A58: 3.10 | B58: Cabo de cobre flexível isolado, 6mm², 1KV, para rede de energia elétrica de baixa tensão - fornecimento e instalação (cor branco) | C58: m | D58: 29 | E58: 11.59 | F58: =E58*(1+$H$7) -> 14.42955 | G58: =F58*D58 -> 418.45695 | H58: 91931 - Sinapi - C
A59: 3.11 | B59: Cabo de cobre flexível isolado, 6mm², 1KV, para rede de energia elétrica de baixa tensão - fornecimento e instalação (cor vermelho) | C59: m | D59: 29 | E59: 11.59 | F59: =E59*(1+$H$7) -> 14.42955 | G59: =F59*D59 -> 418.45695 | H59: 91931 - Sinapi - C
A60: 3.12 | B60: Cabo de cobre flexível isolado, 6mm², 1KV, para rede de energia elétrica de baixa tensão - fornecimento e instalação (cor cinza) | C60: m | D60: 29 | E60: 11.59 | F60: =E60*(1+$H$7) -> 14.42955 | G60: =F60*D60 -> 418.45695 | H60: 91931 - Sinapi - C
A61: 3.13 | B61: Cabo de cobre flexível isolado, 6mm², 1KV, para rede de energia elétrica de baixa tensão - fornecimento e instalação (cor marrom) | C61: m | D61: 29 | E61: 11.59 | F61: =E61*(1+$H$7) -> 14.42955 | G61: =F61*D61 -> 418.45695 | H61: 91931 - Sinapi - C
... A63: 3.15 | B63: Cabo de cobre flexível isolado, 6mm², 1KV, para rede de energia elétrica de baixa tensão - fornecimento e instalação (cor azul) | C63: m | D63: 174 | E63: 11.59 | F63: =E63*(1+$H$7) -> 14.42955 | G63: =F63*D63 -> 2510.7417 | H63: 91931 - Sinapi - C
A64: 3.16 | B64: Fita aço inox para cintar poste L=19mm, E=0,5mm (rolo de 30m) | C64: und | D64: 1 | E64: 78.24 | F64: =E64*(1+$H$7) -> 97.4088 | G64: =D64*F64 -> 97.4088 | H64: 406 - Sinapi - I
...

Sheet cotações
A2: Cotações
A3: Refletores modulares LED 2000w
A5: Excelência luminárias | C5: 3067.88 | E5: Média de valores | F5: 3181.5
A6: Nova luminária | C6: 3408.75
A7: Diamante do LED | C7: 3067.88
A9: Postes de concreto armado 22/1500
A10: Artelaje pré-moldados | C10: 8666.67 | E10: Média de valores | F10: 8800
A11: Negri art. Cimento | C11: 8666.67
A12: P.B.Z pré-moldados | C12: 9066.67
A15: Bandeirante/SC, 03 de novembro de 2025
A19: Município de Bandeirante/SC | D19: Giovane Miguel Kuhn
A20: CNPJ: 01.612.528/0001-84 | D20: Dir. Projetos, Engenharia e Fiscalização

Sheet Cronograma
A2: PREFEITURA MUNICIPAL DE BANDEIRANTE | F2: CRONOGRAMA FÍSICO-FINANCEIRO
B5: Obra: Implantação de Iluminação do Estádio Municipal Luiz Basso
B6: Endereço: Rua Flor da Serra, esquina com a Rua dos Imigrantes, centro, Bandeirante/SC
B7: Proprietário: Prefeitura Municipal de Bandeirante
E8: PERÍODO (MÊS)
B9: DISCRIMINAÇÃO | C9: 1 | E9: 2 | G9: 3 | I9: 4 | L9: TOTAL
C10: R$ | D10: % | E10: R$ | F10: % | G10: R$ | H10: % | I10: R$ | J10: % | K10: % | L10: R$
A11: 1 | B11: ='Orçamento Final'!B10 -> SERVIÇOS PRELIMINARES | C11: =L11*D11/100 -> 2086.6698 | D11: 100 | K11: =(L11/$L$15*100) -> 0.87066321 | L11: ='Orçamento Final'!G10 -> 2086.6698
A12: 2 | B12: ='Orçamento Final'!B14 -> MEDIÇÃO | C12: =L12*D12/100 -> 23130.595 | D12: 100 | K12: =(L12/$L$15*100) -> 9.6512431 | L12: ='Orçamento Final'!G14 -> 23130.595
A13: 3 | B13: ='Orçamento Final'!B48 -> ILUMINAÇÃO CAMPO DE FUTEBOL | E13: =L13*F13/100 -> 107223.57 | F13: 50 | G13: =L13*H13/100 -> 107223.57 | H13: 50 | K13: =(L13/$L$15*100) -> 89.478094 | L13: ='Orçamento Final'!G48 -> 214447.14
B15: SIMPLES R$ | C15: =SUM(C11:C14) -> 25217.264 | E15: =SUM(E11:E14) -> 107223.57 | G15: =SUM(G11:G14) -> 107223.57 | I15: =SUM(I11:I14) -> 0 | K15: =SUM(K11:K14) -> 100 | L15: =SUM(L11:L14) -> 239664.41
B16: ACUMULADO R$ | C16: =+C15 -> 25217.264 | E16: =E15+C16 -> 132440.84 | G16: =G15+E16 -> 239664.41 | I16: =I15+G16 -> 239664.41
B17: SIMPLES % | C17: =(C15/L15*10000)/100 -> 10.521906 | E17: =(E15/L15*10000)/100 -> 44.739047 | G17: =(G15/L15*10000)/100 -> 44.739047 | I17: =(I15/L15*10000)/100 -> 0
B18: ACUMULADO % | C18: =+C17 -> 10.521906 | E18: =+E17+C18 -> 55.260953 | G18: =+G17+E18 -> 100 | I18: =+I17+G18 -> 100
B21: Bandeirante/SC, 03 de novembro de 2025
C25: Município de Bandeirante | H25: Giovane Miguel Kuhn
C26: CNPJ n° 01.612.528/0001-34 | H26: Diretor de Projetos, Engenharia e Fiscalização CREA/SC 186.990-8
